Package: censcyt Version: 1.15.0 Command: E:\biocbuild\bbs-3.21-bioc\R\bin\R.exe CMD check --no-multiarch --install=check:censcyt.install-out.txt --library=E:\biocbuild\bbs-3.21-bioc\R\library --no-vignettes --timings censcyt_1.15.0.tar.gz StartedAt: 2025-02-12 23:39:49 -0500 (Wed, 12 Feb 2025) EndedAt: 2025-02-12 23:45:08 -0500 (Wed, 12 Feb 2025) EllapsedTime: 318.4 seconds RetCode: 0 Status: OK CheckDir: censcyt.Rcheck Warnings: 0