Package: censcyt Version: 1.15.0 Command: rm -rf censcyt.buildbin-libdir && mkdir censcyt.buildbin-libdir && E:\biocbuild\bbs-3.21-bioc\R\bin\R.exe CMD INSTALL --build --library=censcyt.buildbin-libdir censcyt_1.15.0.tar.gz StartedAt: 2025-02-13 07:36:06 -0500 (Thu, 13 Feb 2025) EndedAt: 2025-02-13 07:36:43 -0500 (Thu, 13 Feb 2025) EllapsedTime: 37.2 seconds RetCode: 0 Status: OK PackageFile: censcyt_1.15.0.zip PackageFileSize: 453.6 KiB