Package: censcyt Version: 1.17.0 Command: /home/biocbuild/bbs-3.22-bioc/R/bin/R CMD INSTALL censcyt StartedAt: 2025-09-30 15:23:23 -0400 (Tue, 30 Sep 2025) EndedAt: 2025-09-30 15:23:55 -0400 (Tue, 30 Sep 2025) EllapsedTime: 32.5 seconds RetCode: 0 Status: OK