Package: censcyt Version: 1.17.0 Command: /home/biocbuild/bbs-3.22-bioc/R/bin/R CMD build --keep-empty-dirs --no-resave-data --md5 censcyt StartedAt: 2025-09-30 16:41:16 -0400 (Tue, 30 Sep 2025) EndedAt: 2025-09-30 16:42:38 -0400 (Tue, 30 Sep 2025) EllapsedTime: 82.0 seconds RetCode: 0 Status: OK PackageFile: censcyt_1.17.0.tar.gz PackageFileSize: 523 KiB