Package: censcyt Version: 1.15.0 Command: rm -rf censcyt.buildbin-libdir && mkdir censcyt.buildbin-libdir && /Users/biocbuild/BBS/utils/build-universal.sh censcyt_1.15.0.tar.gz /Library/Frameworks/R.framework/Resources/bin/R censcyt.buildbin-libdir StartedAt: 2025-02-05 00:32:21 -0500 (Wed, 05 Feb 2025) EndedAt: 2025-02-05 00:33:05 -0500 (Wed, 05 Feb 2025) EllapsedTime: 44.0 seconds RetCode: 0 Status: OK PackageFile: censcyt_1.15.0.tgz PackageFileSize: 607.8 KiB