Package: censcyt Version: 1.15.0 Command: /home/biocbuild/R/R/bin/R CMD INSTALL censcyt StartedAt: 2025-01-29 20:34:20 -0000 (Wed, 29 Jan 2025) EndedAt: 2025-01-29 20:35:02 -0000 (Wed, 29 Jan 2025) EllapsedTime: 42.0 seconds RetCode: 0 Status: OK