Package: censcyt Version: 1.15.0 Command: /home/biocbuild/R/R/bin/R CMD check --install=check:censcyt.install-out.txt --library=/home/biocbuild/R/R/site-library --no-vignettes --timings censcyt_1.15.0.tar.gz StartedAt: 2025-01-28 09:03:37 -0000 (Tue, 28 Jan 2025) EndedAt: 2025-01-28 09:09:34 -0000 (Tue, 28 Jan 2025) EllapsedTime: 357.3 seconds RetCode: 0 Status: OK CheckDir: censcyt.Rcheck Warnings: 0