Package: censcyt Version: 1.15.0 Command: /Library/Frameworks/R.framework/Resources/bin/R CMD INSTALL censcyt StartedAt: 2025-02-04 15:28:39 -0500 (Tue, 04 Feb 2025) EndedAt: 2025-02-04 15:28:51 -0500 (Tue, 04 Feb 2025) EllapsedTime: 12.4 seconds RetCode: 0 Status: OK