Package: censcyt Version: 1.15.0 Command: rm -rf censcyt.buildbin-libdir && mkdir censcyt.buildbin-libdir && /Users/biocbuild/BBS/utils/build-universal.sh censcyt_1.15.0.tar.gz /Library/Frameworks/R.framework/Resources/bin/R censcyt.buildbin-libdir StartedAt: 2025-02-04 22:10:39 -0500 (Tue, 04 Feb 2025) EndedAt: 2025-02-04 22:10:52 -0500 (Tue, 04 Feb 2025) EllapsedTime: 13.3 seconds RetCode: 0 Status: OK PackageFile: censcyt_1.15.0.tgz PackageFileSize: 608.3 KiB