Package: cellxgenedp Version: 1.13.1 Command: chmod a+r cellxgenedp -R && F:\biocbuild\bbs-3.22-bioc\R\bin\R.exe CMD build --keep-empty-dirs --no-resave-data cellxgenedp StartedAt: 2025-08-14 19:01:00 -0400 (Thu, 14 Aug 2025) EndedAt: 2025-08-14 19:03:39 -0400 (Thu, 14 Aug 2025) EllapsedTime: 159.6 seconds RetCode: 0 Status: OK PackageFile: cellxgenedp_1.13.1.tar.gz PackageFileSize: 472.6 KiB