Package: cellxgenedp Version: 1.13.1 Command: rm -rf cellxgenedp.buildbin-libdir && mkdir cellxgenedp.buildbin-libdir && F:\biocbuild\bbs-3.22-bioc\R\bin\R.exe CMD INSTALL --build --library=cellxgenedp.buildbin-libdir cellxgenedp_1.13.1.tar.gz StartedAt: 2025-08-15 09:55:45 -0400 (Fri, 15 Aug 2025) EndedAt: 2025-08-15 09:56:12 -0400 (Fri, 15 Aug 2025) EllapsedTime: 26.9 seconds RetCode: 0 Status: OK PackageFile: cellxgenedp_1.13.1.zip PackageFileSize: 513.9 KiB