Package: cellxgenedp Version: 1.13.0 Maintainer: Martin Morgan MaintainerEmail: mtmorgan.bioc at gmail.com git_url: https://git.bioconductor.org/packages/cellxgenedp git_branch: devel git_last_commit: 0876719 git_last_commit_date: 2025-04-15 12:46:37 -0400 (Tue, 15 Apr 2025)