Package: cellmigRation Version: 1.17.0 Command: /home/biocbuild/R/R/bin/R CMD build --keep-empty-dirs --no-resave-data cellmigRation StartedAt: 2025-10-13 22:59:11 -0000 (Mon, 13 Oct 2025) EndedAt: 2025-10-13 23:02:32 -0000 (Mon, 13 Oct 2025) EllapsedTime: 201.1 seconds RetCode: 0 Status: OK PackageFile: cellmigRation_1.17.0.tar.gz PackageFileSize: 972.6 KiB