Package: cellmigRation Version: 1.15.0 Command: rm -rf cellmigRation.buildbin-libdir && mkdir cellmigRation.buildbin-libdir && E:\biocbuild\bbs-3.21-bioc\R\bin\R.exe CMD INSTALL --build --library=cellmigRation.buildbin-libdir cellmigRation_1.15.0.tar.gz StartedAt: 2025-02-04 07:38:55 -0500 (Tue, 04 Feb 2025) EndedAt: 2025-02-04 07:42:18 -0500 (Tue, 04 Feb 2025) EllapsedTime: 203.3 seconds RetCode: 0 Status: OK PackageFile: cellmigRation_1.15.0.zip PackageFileSize: 1.534 MiB