Package: cellmigRation Version: 1.15.0 Command: /Library/Frameworks/R.framework/Resources/bin/R CMD INSTALL cellmigRation StartedAt: 2025-02-03 15:42:14 -0500 (Mon, 03 Feb 2025) EndedAt: 2025-02-03 15:42:36 -0500 (Mon, 03 Feb 2025) EllapsedTime: 22.0 seconds RetCode: 0 Status: OK