Package: cellity Version: 1.37.0 Command: /home/biocbuild/bbs-3.22-bioc/R/bin/R CMD INSTALL cellity StartedAt: 2025-10-01 15:46:09 -0400 (Wed, 01 Oct 2025) EndedAt: 2025-10-01 15:46:31 -0400 (Wed, 01 Oct 2025) EllapsedTime: 22.7 seconds RetCode: 0 Status: OK