Package: cellity Version: 1.37.0 Command: /home/biocbuild/bbs-3.22-bioc/R/bin/R CMD build --keep-empty-dirs --no-resave-data --md5 cellity StartedAt: 2025-10-01 16:58:38 -0400 (Wed, 01 Oct 2025) EndedAt: 2025-10-01 16:59:50 -0400 (Wed, 01 Oct 2025) EllapsedTime: 72.0 seconds RetCode: 0 Status: OK PackageFile: cellity_1.37.0.tar.gz PackageFileSize: 1.234 MiB