Package: cellbaseR Version: 1.33.0 Command: rm -rf cellbaseR.buildbin-libdir && mkdir cellbaseR.buildbin-libdir && F:\biocbuild\bbs-3.22-bioc\R\bin\R.exe CMD INSTALL --build --library=cellbaseR.buildbin-libdir cellbaseR_1.33.0.tar.gz StartedAt: 2025-08-15 09:55:13 -0400 (Fri, 15 Aug 2025) EndedAt: 2025-08-15 09:55:49 -0400 (Fri, 15 Aug 2025) EllapsedTime: 36.1 seconds RetCode: 0 Status: OK PackageFile: cellbaseR_1.33.0.zip PackageFileSize: 721.3 KiB