############################################################################## ############################################################################## ### ### Running command: ### ### chmod a+r cellbaseR -R && E:\biocbuild\bbs-3.21-bioc\R\bin\R.exe CMD build --keep-empty-dirs --no-resave-data cellbaseR ### ############################################################################## ############################################################################## * checking for file 'cellbaseR/DESCRIPTION' ... OK * preparing 'cellbaseR': * checking DESCRIPTION meta-information ... OK * installing the package to build vignettes * creating vignettes ...Warning in file(con, "r") : cannot open file 'E:\biocbuild\bbs-3.21-bioc\tmpdir\RtmpAJN8NC\xshelledc071bf6732': Permission denied Error in file(con, "r") : cannot open the connection Execution halted