Package: celda Version: 1.25.0 Command: /home/biocbuild/bbs-3.22-bioc/R/bin/R CMD INSTALL celda StartedAt: 2025-10-05 15:55:09 -0400 (Sun, 05 Oct 2025) EndedAt: 2025-10-05 15:56:18 -0400 (Sun, 05 Oct 2025) EllapsedTime: 68.6 seconds RetCode: 0 Status: OK