Package: celda Version: 1.23.1 Command: /Library/Frameworks/R.framework/Resources/bin/R CMD INSTALL celda StartedAt: 2025-02-18 15:39:57 -0500 (Tue, 18 Feb 2025) EndedAt: 2025-02-18 15:41:15 -0500 (Tue, 18 Feb 2025) EllapsedTime: 77.8 seconds RetCode: 0 Status: OK