Package: celda Version: 1.23.1 Command: /Library/Frameworks/R.framework/Resources/bin/R CMD check --install=check:celda.install-out.txt --library=/Library/Frameworks/R.framework/Resources/library --no-vignettes --timings celda_1.23.1.tar.gz StartedAt: 2025-02-18 19:18:34 -0500 (Tue, 18 Feb 2025) EndedAt: 2025-02-18 19:28:03 -0500 (Tue, 18 Feb 2025) EllapsedTime: 569.1 seconds RetCode: 0 Status: OK CheckDir: celda.Rcheck Warnings: 0