Package: celda Version: 1.23.1 Command: /Library/Frameworks/R.framework/Resources/bin/R CMD build --keep-empty-dirs --no-resave-data celda StartedAt: 2025-02-18 16:08:20 -0500 (Tue, 18 Feb 2025) EndedAt: 2025-02-18 16:13:12 -0500 (Tue, 18 Feb 2025) EllapsedTime: 292.0 seconds RetCode: 0 Status: OK PackageFile: celda_1.23.1.tar.gz PackageFileSize: 2.478 MiB