Package: celda Version: 1.23.1 Command: rm -rf celda.buildbin-libdir && mkdir celda.buildbin-libdir && /Users/biocbuild/BBS/utils/build-universal.sh celda_1.23.1.tar.gz /Library/Frameworks/R.framework/Resources/bin/R celda.buildbin-libdir StartedAt: 2025-02-19 00:17:11 -0500 (Wed, 19 Feb 2025) EndedAt: 2025-02-19 00:18:34 -0500 (Wed, 19 Feb 2025) EllapsedTime: 83.1 seconds RetCode: 0 Status: OK PackageFile: celda_1.23.1.tgz PackageFileSize: 3.435 MiB