Package: celda Version: 1.23.0 Command: /Library/Frameworks/R.framework/Resources/bin/R CMD check --install=check:celda.install-out.txt --library=/Library/Frameworks/R.framework/Resources/library --no-vignettes --timings celda_1.23.0.tar.gz StartedAt: 2025-02-09 18:26:21 -0500 (Sun, 09 Feb 2025) EndedAt: 2025-02-09 18:28:30 -0500 (Sun, 09 Feb 2025) EllapsedTime: 128.7 seconds RetCode: 1 Status: ERROR CheckDir: celda.Rcheck Warnings: NA