Package: celaref Version: 1.27.0 Command: chmod a+r celaref -R && F:\biocbuild\bbs-3.22-bioc\R\bin\R.exe CMD build --keep-empty-dirs --no-resave-data celaref StartedAt: 2025-08-14 18:58:40 -0400 (Thu, 14 Aug 2025) EndedAt: 2025-08-14 19:02:46 -0400 (Thu, 14 Aug 2025) EllapsedTime: 245.8 seconds RetCode: 0 Status: OK PackageFile: celaref_1.27.0.tar.gz PackageFileSize: 2.031 MiB