Package: celaref Version: 1.27.0 Command: rm -rf celaref.buildbin-libdir && mkdir celaref.buildbin-libdir && F:\biocbuild\bbs-3.22-bioc\R\bin\R.exe CMD INSTALL --build --library=celaref.buildbin-libdir celaref_1.27.0.tar.gz StartedAt: 2025-08-15 09:55:07 -0400 (Fri, 15 Aug 2025) EndedAt: 2025-08-15 09:55:56 -0400 (Fri, 15 Aug 2025) EllapsedTime: 48.8 seconds RetCode: 0 Status: OK PackageFile: celaref_1.27.0.zip PackageFileSize: 2.02 MiB