Package: ccrepe Version: 1.45.0 Command: rm -rf ccrepe.buildbin-libdir && mkdir ccrepe.buildbin-libdir && F:\biocbuild\bbs-3.22-bioc\R\bin\R.exe CMD INSTALL --build --library=ccrepe.buildbin-libdir ccrepe_1.45.0.tar.gz StartedAt: 2025-08-15 09:55:02 -0400 (Fri, 15 Aug 2025) EndedAt: 2025-08-15 09:55:09 -0400 (Fri, 15 Aug 2025) EllapsedTime: 6.9 seconds RetCode: 0 Status: OK PackageFile: ccrepe_1.45.0.zip PackageFileSize: 364.8 KiB