Package: ccmap Version: 1.35.0 Maintainer: Alex Pickering MaintainerEmail: alexvpickering at gmail.com git_url: https://git.bioconductor.org/packages/ccmap git_branch: devel git_last_commit: 67bc5f0 git_last_commit_date: 2025-04-15 11:03:03 -0400 (Tue, 15 Apr 2025)