Package: ccfindR Version: 1.29.0 Command: chmod a+r ccfindR -R && F:\biocbuild\bbs-3.22-bioc\R\bin\R.exe CMD build --keep-empty-dirs --no-resave-data ccfindR StartedAt: 2025-08-14 18:57:13 -0400 (Thu, 14 Aug 2025) EndedAt: 2025-08-14 19:02:59 -0400 (Thu, 14 Aug 2025) EllapsedTime: 345.8 seconds RetCode: 0 Status: OK PackageFile: ccfindR_1.29.0.tar.gz PackageFileSize: 758.6 KiB