Package: ccfindR Version: 1.29.0 Command: rm -rf ccfindR.buildbin-libdir && mkdir ccfindR.buildbin-libdir && F:\biocbuild\bbs-3.22-bioc\R\bin\R.exe CMD INSTALL --build --library=ccfindR.buildbin-libdir ccfindR_1.29.0.tar.gz StartedAt: 2025-08-15 09:54:43 -0400 (Fri, 15 Aug 2025) EndedAt: 2025-08-15 09:55:59 -0400 (Fri, 15 Aug 2025) EllapsedTime: 76.7 seconds RetCode: 0 Status: OK PackageFile: ccfindR_1.29.0.zip PackageFileSize: 1.57 MiB