Package: ccfindR Version: 1.27.0 Command: chmod a+r ccfindR -R && E:\biocbuild\bbs-3.21-bioc\R\bin\R.exe CMD build --keep-empty-dirs --no-resave-data ccfindR StartedAt: 2025-02-03 17:54:06 -0500 (Mon, 03 Feb 2025) EndedAt: 2025-02-03 17:59:37 -0500 (Mon, 03 Feb 2025) EllapsedTime: 331.6 seconds RetCode: 0 Status: OK PackageFile: ccfindR_1.27.0.tar.gz PackageFileSize: 758.6 KiB