Package: ccfindR Version: 1.27.0 Command: /home/biocbuild/bbs-3.21-bioc/R/bin/R CMD build --keep-empty-dirs --no-resave-data ccfindR StartedAt: 2025-02-03 16:41:05 -0500 (Mon, 03 Feb 2025) EndedAt: 2025-02-03 16:44:37 -0500 (Mon, 03 Feb 2025) EllapsedTime: 212.2 seconds RetCode: 0 Status: OK PackageFile: ccfindR_1.27.0.tar.gz PackageFileSize: 1.184 MiB