Package: ccfindR Version: 1.27.0 Command: /Library/Frameworks/R.framework/Resources/bin/R CMD INSTALL ccfindR StartedAt: 2025-02-03 15:23:11 -0500 (Mon, 03 Feb 2025) EndedAt: 2025-02-03 15:23:12 -0500 (Mon, 03 Feb 2025) EllapsedTime: 1.0 seconds RetCode: 1 Status: ERROR