Package: ccfindR Version: 1.27.0 Command: /Library/Frameworks/R.framework/Resources/bin/R CMD build --keep-empty-dirs --no-resave-data ccfindR StartedAt: 2025-02-03 16:13:54 -0500 (Mon, 03 Feb 2025) EndedAt: 2025-02-03 16:13:55 -0500 (Mon, 03 Feb 2025) EllapsedTime: 1.1 seconds RetCode: 1 Status: ERROR PackageFile: None PackageFileSize: NA