Package: ccfindR Version: 1.27.0 Command: /home/biocbuild/R/R/bin/R CMD check --install=check:ccfindR.install-out.txt --library=/home/biocbuild/R/R/site-library --no-vignettes --timings ccfindR_1.27.0.tar.gz StartedAt: 2025-01-28 08:57:52 -0000 (Tue, 28 Jan 2025) EndedAt: 2025-01-28 09:02:36 -0000 (Tue, 28 Jan 2025) EllapsedTime: 284.2 seconds RetCode: 0 Status: WARNINGS CheckDir: ccfindR.Rcheck Warnings: 1