Package: ccImpute Version: 1.11.0 Command: /home/biocbuild/bbs-3.22-bioc/R/bin/R CMD INSTALL ccImpute StartedAt: 2025-10-19 15:31:57 -0400 (Sun, 19 Oct 2025) EndedAt: 2025-10-19 15:32:38 -0400 (Sun, 19 Oct 2025) EllapsedTime: 40.9 seconds RetCode: 0 Status: OK