Package: ccImpute Version: 1.11.0 Command: /home/biocbuild/bbs-3.22-bioc/R/bin/R CMD build --keep-empty-dirs --no-resave-data --md5 ccImpute StartedAt: 2025-10-19 16:41:45 -0400 (Sun, 19 Oct 2025) EndedAt: 2025-10-19 16:45:44 -0400 (Sun, 19 Oct 2025) EllapsedTime: 239.2 seconds RetCode: 0 Status: OK PackageFile: ccImpute_1.11.0.tar.gz PackageFileSize: 987.3 KiB