Package: cbpManager Version: 1.17.0 Command: /home/biocbuild/bbs-3.22-bioc/R/bin/R CMD INSTALL cbpManager StartedAt: 2025-10-17 15:10:31 -0400 (Fri, 17 Oct 2025) EndedAt: 2025-10-17 15:10:42 -0400 (Fri, 17 Oct 2025) EllapsedTime: 11.1 seconds RetCode: 0 Status: OK