Package: cbaf Version: 1.31.0 Command: /home/biocbuild/bbs-3.22-bioc/R/bin/R CMD INSTALL cbaf StartedAt: 2025-10-03 15:43:47 -0400 (Fri, 03 Oct 2025) EndedAt: 2025-10-03 15:44:30 -0400 (Fri, 03 Oct 2025) EllapsedTime: 43.2 seconds RetCode: 0 Status: OK