Package: cbaf Version: 1.29.0 Command: /home/biocbuild/bbs-3.21-bioc/R/bin/R CMD check --install=check:cbaf.install-out.txt --library=/home/biocbuild/bbs-3.21-bioc/R/site-library --timings cbaf_1.29.0.tar.gz StartedAt: 2025-02-04 20:39:07 -0500 (Tue, 04 Feb 2025) EndedAt: 2025-02-04 20:44:59 -0500 (Tue, 04 Feb 2025) EllapsedTime: 351.5 seconds RetCode: 0 Status: OK CheckDir: cbaf.Rcheck Warnings: 0