Package: cbaf Version: 1.29.0 Command: /home/biocbuild/bbs-3.21-bioc/R/bin/R CMD build --keep-empty-dirs --no-resave-data cbaf StartedAt: 2025-02-04 16:29:43 -0500 (Tue, 04 Feb 2025) EndedAt: 2025-02-04 16:30:55 -0500 (Tue, 04 Feb 2025) EllapsedTime: 72.2 seconds RetCode: 0 Status: OK PackageFile: cbaf_1.29.0.tar.gz PackageFileSize: 785.9 KiB