Package: cbaf Version: 1.29.0 Command: /Library/Frameworks/R.framework/Resources/bin/R CMD INSTALL cbaf StartedAt: 2025-02-04 15:41:17 -0500 (Tue, 04 Feb 2025) EndedAt: 2025-02-04 15:42:14 -0500 (Tue, 04 Feb 2025) EllapsedTime: 57.6 seconds RetCode: 0 Status: OK