Package: cbaf Version: 1.29.0 Command: /Library/Frameworks/R.framework/Resources/bin/R CMD build --keep-empty-dirs --no-resave-data cbaf StartedAt: 2025-02-04 16:07:52 -0500 (Tue, 04 Feb 2025) EndedAt: 2025-02-04 16:09:02 -0500 (Tue, 04 Feb 2025) EllapsedTime: 70.7 seconds RetCode: 0 Status: OK PackageFile: cbaf_1.29.0.tar.gz PackageFileSize: 786 KiB