Package: cbaf Version: 1.29.0 Command: /home/biocbuild/R/R/bin/R CMD build --keep-empty-dirs --no-resave-data cbaf StartedAt: 2025-01-28 21:35:40 -0000 (Tue, 28 Jan 2025) EndedAt: 2025-01-28 21:37:20 -0000 (Tue, 28 Jan 2025) EllapsedTime: 100.0 seconds RetCode: 0 Status: OK PackageFile: cbaf_1.29.0.tar.gz PackageFileSize: 810.3 KiB