Package: cbaf Version: 1.29.0 Command: /Library/Frameworks/R.framework/Resources/bin/R CMD INSTALL cbaf StartedAt: 2025-02-04 15:27:21 -0500 (Tue, 04 Feb 2025) EndedAt: 2025-02-04 15:27:39 -0500 (Tue, 04 Feb 2025) EllapsedTime: 18.0 seconds RetCode: 0 Status: OK