Package: cbaf Version: 1.29.0 Command: /Library/Frameworks/R.framework/Resources/bin/R CMD check --install=check:cbaf.install-out.txt --library=/Library/Frameworks/R.framework/Resources/library --no-vignettes --timings cbaf_1.29.0.tar.gz StartedAt: 2025-02-04 18:25:50 -0500 (Tue, 04 Feb 2025) EndedAt: 2025-02-04 18:27:53 -0500 (Tue, 04 Feb 2025) EllapsedTime: 123.5 seconds RetCode: 0 Status: OK CheckDir: cbaf.Rcheck Warnings: 0