Package: cbaf Version: 1.29.0 Command: rm -rf cbaf.buildbin-libdir && mkdir cbaf.buildbin-libdir && /Users/biocbuild/BBS/utils/build-universal.sh cbaf_1.29.0.tar.gz /Library/Frameworks/R.framework/Resources/bin/R cbaf.buildbin-libdir StartedAt: 2025-02-04 22:10:18 -0500 (Tue, 04 Feb 2025) EndedAt: 2025-02-04 22:10:38 -0500 (Tue, 04 Feb 2025) EllapsedTime: 19.4 seconds RetCode: 0 Status: OK PackageFile: cbaf_1.29.0.tgz PackageFileSize: 899.2 KiB