Package: categoryCompare Version: 1.53.0 Command: /home/biocbuild/bbs-3.22-bioc/R/bin/R CMD INSTALL categoryCompare StartedAt: 2025-09-29 15:47:45 -0400 (Mon, 29 Sep 2025) EndedAt: 2025-09-29 15:48:18 -0400 (Mon, 29 Sep 2025) EllapsedTime: 33.1 seconds RetCode: 0 Status: OK