Package: categoryCompare Version: 1.51.0 Command: rm -rf categoryCompare.buildbin-libdir && mkdir categoryCompare.buildbin-libdir && /Users/biocbuild/BBS/utils/build-universal.sh categoryCompare_1.51.0.tar.gz /Library/Frameworks/R.framework/Resources/bin/R categoryCompare.buildbin-libdir StartedAt: 2025-01-11 00:17:01 -0500 (Sat, 11 Jan 2025) EndedAt: 2025-01-11 00:17:44 -0500 (Sat, 11 Jan 2025) EllapsedTime: 43.0 seconds RetCode: 0 Status: OK PackageFile: categoryCompare_1.51.0.tgz PackageFileSize: 2.551 MiB